BEGIN:VCALENDAR
VERSION:2.0
PRODID:-//Compañía Humana - ECPv6.15.20//NONSGML v1.0//EN
CALSCALE:GREGORIAN
METHOD:PUBLISH
X-WR-CALNAME:Compañía Humana
X-ORIGINAL-URL:https://www.lafundacionhumana.org
X-WR-CALDESC:Eventos para Compañía Humana
REFRESH-INTERVAL;VALUE=DURATION:PT1H
X-Robots-Tag:noindex
X-PUBLISHED-TTL:PT1H
BEGIN:VTIMEZONE
TZID:America/Halifax
BEGIN:DAYLIGHT
TZOFFSETFROM:-0400
TZOFFSETTO:-0300
TZNAME:ADT
DTSTART:20220313T060000
END:DAYLIGHT
BEGIN:STANDARD
TZOFFSETFROM:-0300
TZOFFSETTO:-0400
TZNAME:AST
DTSTART:20221106T050000
END:STANDARD
BEGIN:DAYLIGHT
TZOFFSETFROM:-0400
TZOFFSETTO:-0300
TZNAME:ADT
DTSTART:20230312T060000
END:DAYLIGHT
BEGIN:STANDARD
TZOFFSETFROM:-0300
TZOFFSETTO:-0400
TZNAME:AST
DTSTART:20231105T050000
END:STANDARD
BEGIN:DAYLIGHT
TZOFFSETFROM:-0400
TZOFFSETTO:-0300
TZNAME:ADT
DTSTART:20240310T060000
END:DAYLIGHT
BEGIN:STANDARD
TZOFFSETFROM:-0300
TZOFFSETTO:-0400
TZNAME:AST
DTSTART:20241103T050000
END:STANDARD
END:VTIMEZONE
BEGIN:VEVENT
DTSTART;TZID=America/Halifax:20231214T080000
DTEND;TZID=America/Halifax:20231214T170000
DTSTAMP:20260423T115625
CREATED:20230321T192829Z
LAST-MODIFIED:20230321T201518Z
UID:825-1702540800-1702573200@www.lafundacionhumana.org
SUMMARY:Fiesta de los jóvenes y niños.
DESCRIPTION:Reservado – Personal de la Escuela y estudiantes.
URL:https://www.lafundacionhumana.org/eventos/fiesta-de-los-jovenes-y-ninos/
LOCATION:Fundación La Compañía Humana\, 2R3M+JJM\, Autopista José Antonio Páez\, Campo de Carabobo 2035\, Carabobo\, Barrera\, Carabobo\, Venezuela
END:VEVENT
BEGIN:VEVENT
DTSTART;TZID=America/Halifax:20231213T080000
DTEND;TZID=America/Halifax:20231213T170000
DTSTAMP:20260423T115625
CREATED:20230321T192723Z
LAST-MODIFIED:20230321T201543Z
UID:823-1702454400-1702486800@www.lafundacionhumana.org
SUMMARY:Gira conciertos Invega – Nautilus.
DESCRIPTION:Conciertos por las oficinas.Reservado – Personal de la Escuela y estudiantes.
URL:https://www.lafundacionhumana.org/eventos/gira-conciertos-invega-nautilus/
LOCATION:Fundación La Compañía Humana\, 2R3M+JJM\, Autopista José Antonio Páez\, Campo de Carabobo 2035\, Carabobo\, Barrera\, Carabobo\, Venezuela
END:VEVENT
BEGIN:VEVENT
DTSTART;TZID=America/Halifax:20231212T080000
DTEND;TZID=America/Halifax:20231212T170000
DTSTAMP:20260423T115625
CREATED:20230321T192641Z
LAST-MODIFIED:20230321T192643Z
UID:821-1702368000-1702400400@www.lafundacionhumana.org
SUMMARY:Concierto navideño.
DESCRIPTION:Concierto de Navidad.Todo público.
URL:https://www.lafundacionhumana.org/eventos/concierto-navideno/
LOCATION:Fundación La Compañía Humana\, 2R3M+JJM\, Autopista José Antonio Páez\, Campo de Carabobo 2035\, Carabobo\, Barrera\, Carabobo\, Venezuela
END:VEVENT
BEGIN:VEVENT
DTSTART;TZID=America/Halifax:20231201T080000
DTEND;TZID=America/Halifax:20231210T170000
DTSTAMP:20260423T115625
CREATED:20230321T192207Z
LAST-MODIFIED:20230321T192209Z
UID:819-1701417600-1702227600@www.lafundacionhumana.org
SUMMARY:Visita al hospital de Niños.
DESCRIPTION:Visita musical al Hospital de Niños de la Ciudad Hospitalaria “Enrique Tejera”Reservado – Personal de la Escuela y Estudiantes.
URL:https://www.lafundacionhumana.org/eventos/visita-al-hospital-de-ninos/
LOCATION:Fundación La Compañía Humana\, 2R3M+JJM\, Autopista José Antonio Páez\, Campo de Carabobo 2035\, Carabobo\, Barrera\, Carabobo\, Venezuela
END:VEVENT
BEGIN:VEVENT
DTSTART;TZID=America/Halifax:20231130T080000
DTEND;TZID=America/Halifax:20231130T170000
DTSTAMP:20260423T115625
CREATED:20230321T192110Z
LAST-MODIFIED:20230321T192112Z
UID:817-1701331200-1701363600@www.lafundacionhumana.org
SUMMARY:Día de la alimentación.
DESCRIPTION:Actividad Estudiantil.Reservado – Personal de la Escuela y estudiantes.
URL:https://www.lafundacionhumana.org/eventos/dia-de-la-alimentacion/
LOCATION:Fundación La Compañía Humana\, 2R3M+JJM\, Autopista José Antonio Páez\, Campo de Carabobo 2035\, Carabobo\, Barrera\, Carabobo\, Venezuela
END:VEVENT
BEGIN:VEVENT
DTSTART;TZID=America/Halifax:20230925T080000
DTEND;TZID=America/Halifax:20230929T170000
DTSTAMP:20260423T115625
CREATED:20230321T182525Z
LAST-MODIFIED:20230321T182527Z
UID:801-1695628800-1696006800@www.lafundacionhumana.org
SUMMARY:Semana de Doña Lola Bello de Maldonado
DESCRIPTION:Actividades varias en la semana de Doña Lola.Todo público.
URL:https://www.lafundacionhumana.org/eventos/semana-de-dona-lola-bello-de-maldonado/
LOCATION:Fundación La Compañía Humana\, 2R3M+JJM\, Autopista José Antonio Páez\, Campo de Carabobo 2035\, Carabobo\, Barrera\, Carabobo\, Venezuela
END:VEVENT
BEGIN:VEVENT
DTSTART;TZID=America/Halifax:20230818T080000
DTEND;TZID=America/Halifax:20230818T170000
DTSTAMP:20260423T115625
CREATED:20230321T182441Z
LAST-MODIFIED:20230321T182442Z
UID:799-1692345600-1692378000@www.lafundacionhumana.org
SUMMARY:Bienvenida del Personal al año escolar 2023 – 24.
DESCRIPTION:Actividades de planificación y organización\, almuerzo.Reservado – Personal de la Escuela.
URL:https://www.lafundacionhumana.org/eventos/bienvenida-del-personal-al-ano-escolar-2023-24/
LOCATION:Carabobo
END:VEVENT
BEGIN:VEVENT
DTSTART;TZID=America/Halifax:20230801T080000
DTEND;TZID=America/Halifax:20230810T170000
DTSTAMP:20260423T115625
CREATED:20230321T182057Z
LAST-MODIFIED:20230321T182059Z
UID:794-1690876800-1691686800@www.lafundacionhumana.org
SUMMARY:IV Seminario Orquestal
DESCRIPTION:Semana de actividades musicales y recreativas para los estudiantes.Reservado – Personal de la Escuela y estudiantes.
URL:https://www.lafundacionhumana.org/eventos/iv-seminario-orquestal/
LOCATION:Fundación La Compañía Humana\, 2R3M+JJM\, Autopista José Antonio Páez\, Campo de Carabobo 2035\, Carabobo\, Barrera\, Carabobo\, Venezuela
END:VEVENT
BEGIN:VEVENT
DTSTART;TZID=America/Halifax:20230727T080000
DTEND;TZID=America/Halifax:20230727T170000
DTSTAMP:20260423T115625
CREATED:20230321T182310Z
LAST-MODIFIED:20230721T162600Z
UID:796-1690444800-1690477200@www.lafundacionhumana.org
SUMMARY:Fiesta del personal
DESCRIPTION:Almuerzo con el personal.Reservado – Personal de la Escuela.
URL:https://www.lafundacionhumana.org/eventos/fiesta-del-personal/
LOCATION:Carabobo
END:VEVENT
BEGIN:VEVENT
DTSTART;TZID=America/Halifax:20230714T080000
DTEND;TZID=America/Halifax:20230714T170000
DTSTAMP:20260423T115625
CREATED:20230321T181933Z
LAST-MODIFIED:20230321T181935Z
UID:792-1689321600-1689354000@www.lafundacionhumana.org
SUMMARY:Fiesta fin de año de Refuerzo Pedagógico
DESCRIPTION:Reservado – Personal de refuerzo pedagógico y estudiantes.
URL:https://www.lafundacionhumana.org/eventos/fiesta-fin-de-ano-de-refuerzo-pedagogico/
LOCATION:Fundación La Compañía Humana\, 2R3M+JJM\, Autopista José Antonio Páez\, Campo de Carabobo 2035\, Carabobo\, Barrera\, Carabobo\, Venezuela
END:VEVENT
BEGIN:VEVENT
DTSTART;TZID=America/Halifax:20230618T080000
DTEND;TZID=America/Halifax:20230618T170000
DTSTAMP:20260423T115625
CREATED:20230321T181843Z
LAST-MODIFIED:20230321T181845Z
UID:790-1687075200-1687107600@www.lafundacionhumana.org
SUMMARY:Homenaje a Álvaro Maldonado
DESCRIPTION:Reservado – Invitados\, personal de la Escuela y estudiantes.
URL:https://www.lafundacionhumana.org/eventos/homenaje-a-alvaro-maldonado/
LOCATION:Fundación La Compañía Humana\, 2R3M+JJM\, Autopista José Antonio Páez\, Campo de Carabobo 2035\, Carabobo\, Barrera\, Carabobo\, Venezuela
END:VEVENT
BEGIN:VEVENT
DTSTART;TZID=America/Halifax:20230616T080000
DTEND;TZID=America/Halifax:20230616T170000
DTSTAMP:20260423T115625
CREATED:20230321T170802Z
LAST-MODIFIED:20230321T170804Z
UID:788-1686902400-1686934800@www.lafundacionhumana.org
SUMMARY:Día del padre
DESCRIPTION:Concierto en honor al día del padre.
URL:https://www.lafundacionhumana.org/eventos/dia-del-padre/
LOCATION:Fundación La Compañía Humana\, 2R3M+JJM\, Autopista José Antonio Páez\, Campo de Carabobo 2035\, Carabobo\, Barrera\, Carabobo\, Venezuela
END:VEVENT
BEGIN:VEVENT
DTSTART;TZID=America/Halifax:20230526T080000
DTEND;TZID=America/Halifax:20230526T170000
DTSTAMP:20260423T115625
CREATED:20230321T170712Z
LAST-MODIFIED:20230321T170714Z
UID:786-1685088000-1685120400@www.lafundacionhumana.org
SUMMARY:Día del árbol
DESCRIPTION:Inauguración del jardín de árboles frutales.Todo público.
URL:https://www.lafundacionhumana.org/eventos/dia-del-arbol/
LOCATION:Fundación La Compañía Humana\, 2R3M+JJM\, Autopista José Antonio Páez\, Campo de Carabobo 2035\, Carabobo\, Barrera\, Carabobo\, Venezuela
END:VEVENT
BEGIN:VEVENT
DTSTART;TZID=America/Halifax:20230512T080000
DTEND;TZID=America/Halifax:20230512T170000
DTSTAMP:20260423T115625
CREATED:20230321T170617Z
LAST-MODIFIED:20230321T170618Z
UID:784-1683878400-1683910800@www.lafundacionhumana.org
SUMMARY:Día de las Madres
DESCRIPTION:Concierto en honor a las madres.Todo público.
URL:https://www.lafundacionhumana.org/eventos/dia-de-las-madres/
LOCATION:Fundación La Compañía Humana\, 2R3M+JJM\, Autopista José Antonio Páez\, Campo de Carabobo 2035\, Carabobo\, Barrera\, Carabobo\, Venezuela
END:VEVENT
BEGIN:VEVENT
DTSTART;TZID=America/Halifax:20230501T080000
DTEND;TZID=America/Halifax:20230501T170000
DTSTAMP:20260423T115625
CREATED:20230321T170151Z
LAST-MODIFIED:20230321T201621Z
UID:782-1682928000-1682960400@www.lafundacionhumana.org
SUMMARY:Día del trabajador
DESCRIPTION:Fiesta para el personal de la Escuela.Reservado – Personal de la Escuela.
URL:https://www.lafundacionhumana.org/eventos/dia-del-trabajador/
LOCATION:Fundación La Compañía Humana\, 2R3M+JJM\, Autopista José Antonio Páez\, Campo de Carabobo 2035\, Carabobo\, Barrera\, Carabobo\, Venezuela
END:VEVENT
BEGIN:VEVENT
DTSTART;TZID=America/Halifax:20230423T080000
DTEND;TZID=America/Halifax:20230423T170000
DTSTAMP:20260423T115625
CREATED:20230321T170108Z
LAST-MODIFIED:20230321T170110Z
UID:780-1682236800-1682269200@www.lafundacionhumana.org
SUMMARY:Día del libro – Inauguración de la biblioteca
DESCRIPTION:Reservado – Personal de la Escuela y estudiantes
URL:https://www.lafundacionhumana.org/eventos/dia-del-libro-inauguracion-de-la-biblioteca/
LOCATION:Fundación La Compañía Humana\, 2R3M+JJM\, Autopista José Antonio Páez\, Campo de Carabobo 2035\, Carabobo\, Barrera\, Carabobo\, Venezuela
END:VEVENT
BEGIN:VEVENT
DTSTART;TZID=America/Halifax:20230330T080000
DTEND;TZID=America/Halifax:20230330T170000
DTSTAMP:20260423T115625
CREATED:20230321T170025Z
LAST-MODIFIED:20230321T170027Z
UID:777-1680163200-1680195600@www.lafundacionhumana.org
SUMMARY:Viacrucis de la Semana Santa
DESCRIPTION:Escenificación del Viacrucis. \n\n\n\nTodo público
URL:https://www.lafundacionhumana.org/eventos/viacrucis-de-la-semana-santa/
LOCATION:Carabobo
END:VEVENT
BEGIN:VEVENT
DTSTART;TZID=America/Halifax:20230327T080000
DTEND;TZID=America/Halifax:20230330T170000
DTSTAMP:20260423T115625
CREATED:20230321T165736Z
LAST-MODIFIED:20230321T165940Z
UID:775-1679904000-1680195600@www.lafundacionhumana.org
SUMMARY:Festival de Música de Cámara y Coral Venezolana
DESCRIPTION:Conciertos y Recitales de distintas agrupaciones con enfoque Académico y venezolano. \n\n\n\nTodo público.
URL:https://www.lafundacionhumana.org/eventos/festival-de-musica-de-camara-y-coral-venezolana/
LOCATION:Fundación La Compañía Humana\, 2R3M+JJM\, Autopista José Antonio Páez\, Campo de Carabobo 2035\, Carabobo\, Barrera\, Carabobo\, Venezuela
END:VEVENT
BEGIN:VEVENT
DTSTART;TZID=America/Halifax:20230327T080000
DTEND;TZID=America/Halifax:20230330T170000
DTSTAMP:20260423T115625
CREATED:20230319T210451Z
LAST-MODIFIED:20230321T185023Z
UID:687-1679904000-1680195600@www.lafundacionhumana.org
SUMMARY:[BORRAR] Un evento de muestra
DESCRIPTION:Descripción del evento. Pueden ser empleados distintos recursos multimedia en su desarrollo. \n\n\n\n\n\n\n\n\n\n\n\n\n\nMúltiples recursos multimedia\n\n\n\nVideos\, imágenes\, textos y enlaces a noticias relacionadas son algunas de las opciones disponibles. \n\n\n\nCada evento puede ser tan informativo y complejo como sea necesario para los fines de la organización. \n\n\n\n\n\nElementos adicionales de un evento\n\n\n\nAdemás del nombre\, fecha\, hora y descripción\, existen 4 elementos opcionales potencialmente útiles.  \n\n\n\nPrecio\n\n\n\nEl primero es el renglón de precio\, si bien en este momento no está pensada la venta de entradas en línea\, la institución pudiera plantearse la venta de entradas para algunas de sus actividades. \n\n\n\nBastará con dejar en blanco este campo para desactivar su visualización pública. \n\n\n\nOrganizador\n\n\n\nLa fundación pudiera organizar actividades por departamento o dependencia\, así como realizar actividades en conjunto con otras instituciones. En este campo se mostrará información descriptiva de los organizadores del evento\, adicionalmente\, permite almacenar los datos que se deseen mostrar de cada organizador\, para facilitar la creación de eventos futuros con organizadores frecuentes. \n\n\n\nComo ejemplo\, este evento muestra como organizador a la Escuela de Música\, con un enlace a la página de la Escuela. \n\n\n\nLocalización\n\n\n\nEl evento podrá contar con un mapa de Google incrustado mostrándo la ubicación exacta donde se desarrollará. Esta ubicación podrá ser guardada en la base de datos para su reutilización en el futuro.  \n\n\n\nBotón de enlace\n\n\n\nPor último\, es posible agregar un enlace externo que será mostrado como un botón al final del evento. Es ideal para enlazar a salas de reuniones en plataformas digitales para la promoción de actividades en vivo\, seminarios\, foros o reuniones.
URL:https://www.lafundacionhumana.org/eventos/nombre-del-evento/
LOCATION:Fundación La Compañía Humana\, 2R3M+JJM\, Autopista José Antonio Páez\, Campo de Carabobo 2035\, Carabobo\, Barrera\, Carabobo\, Venezuela
END:VEVENT
BEGIN:VEVENT
DTSTART;TZID=America/Halifax:20230321T080000
DTEND;TZID=America/Halifax:20230321T170000
DTSTAMP:20260423T115625
CREATED:20230321T192910Z
LAST-MODIFIED:20230321T192912Z
UID:827-1679385600-1679418000@www.lafundacionhumana.org
SUMMARY:Fiesta del Personal cierre de año.
DESCRIPTION:Almuerzo Navideño con el personal.Reservado – Personal de la Escuela de Música.
URL:https://www.lafundacionhumana.org/eventos/fiesta-del-personal-cierre-de-ano/
LOCATION:Fundación La Compañía Humana\, 2R3M+JJM\, Autopista José Antonio Páez\, Campo de Carabobo 2035\, Carabobo\, Barrera\, Carabobo\, Venezuela
END:VEVENT
BEGIN:VEVENT
DTSTART;TZID=America/Halifax:20230115T080000
DTEND;TZID=America/Halifax:20230115T080000
DTSTAMP:20260423T115625
CREATED:20230321T165543Z
LAST-MODIFIED:20230321T165545Z
UID:773-1673769600-1673769600@www.lafundacionhumana.org
SUMMARY:Día del Maestro
DESCRIPTION:Almuerzo con el personal. \n\n\n\nReservado – Personal Escuela de Música.
URL:https://www.lafundacionhumana.org/eventos/dia-del-maestro/
LOCATION:Fundación La Compañía Humana\, 2R3M+JJM\, Autopista José Antonio Páez\, Campo de Carabobo 2035\, Carabobo\, Barrera\, Carabobo\, Venezuela
END:VEVENT
END:VCALENDAR